BEGIN:VCALENDAR
VERSION:2.0
PRODID:-//Sabre//Sabre VObject 4.5.8//EN
CALSCALE:GREGORIAN
BEGIN:VEVENT
UID:sabre-vobject-156492e5-2cbb-43fc-a11e-55c3c836072f
DTSTAMP:20260421T103042Z
SUMMARY:TAROT-Connect: Dinner mit Tarot & Fun
DESCRIPTION:Am ersten Abend des Festivals gibt es ein Come-Together zum gem
 ütlichen Ankommen. Für Teilnehmer:innen des Tarot-Festival gibt es so Ge
 legenheit zum Kennenlernen\, für schöne Wiedersehen und informellen Aust
 ausch bei einem genussvollen Dinner-Buffet in unseren Veranstaltungsräume
 n.\nIm Anschluss an das Essen wird eingeladen die Karten zur Hand zu nehme
 n. Es besteht die Möglichkeit\, nach Belieben Karten zu legen oder Spiele
  zu spielen. Karten können mitgebracht werden.\nVor Ort werden neben klas
 sischen und modernen Tarodecks\, auch das 3D-Spiel Akronacle für zwei Per
 sonen\, Tarock-Karten (inkl. Cegokarten)\, ein Tarot-Memory\, ein Spiel mi
 t einer Tarot-Rätselgeschichte und ein sehr unterhaltsames Kabbala-Tarots
 piel (die Spieldynamik erinnert an "Mensch ärgere dich nicht") bereitgest
 ellt. \nFür das Come-Together ist eine separate Anmeldung mit Vorbestell
 ung des Dinner-Buffets erforderlich. Dies Abend-Event kann auch unabhängi
 g vom Tarot-Festival gebucht werden. Eine Gelegenheit in Begleitung zu kom
 men. Unter Berücksichtigung der maximalen Raumbelegung werden nach dem Di
 nner nochmal die Türen geöffnet für die\, die später dazustoßen wolle
 n. 
LOCATION:Eisenbahner-Sportverein Konstanz e. V.\, Hafenstraße 14\, 78462 K
 onstanz
DTSTART;TZID=Europe/Zurich:20261022T183000
DTEND;TZID=Europe/Zurich:20261022T183000
ORGANIZER:Ragna Axen
END:VEVENT
END:VCALENDAR
