BEGIN:VCALENDAR
VERSION:2.0
PRODID:-//Sabre//Sabre VObject 4.5.8//EN
CALSCALE:GREGORIAN
BEGIN:VEVENT
UID:sabre-vobject-498f8226-bd55-4e43-893d-32dfa0471676
DTSTAMP:20260421T123812Z
SUMMARY:Ausklang (Festival-After hour)
DESCRIPTION:Nach dem Finale mit dem letzten Festival-Highlight besteht die 
 Möglichkeit\, ein letztes Mal in die Ausstellung einzutauchen\, das Gespr
 äch zu suchen\, Kontakte auszutauschen\, sich zu Verabschieden und neu zu
  Verabreden. \nWer noch länger bleiben will\, darf mit Abbauen\, Aufräum
 en und sauber machen helfen.
LOCATION:Eisenbahner-Sportverein Konstanz e. V.\, Hafenstraße 14\, 78462 K
 onstanz
DTSTART;TZID=Europe/Zurich:20261025T173000
DTEND;TZID=Europe/Zurich:20261025T183000
ORGANIZER:Ragna Axen
END:VEVENT
END:VCALENDAR
