BEGIN:VCALENDAR
VERSION:2.0
PRODID:-//Sabre//Sabre VObject 4.5.8//EN
CALSCALE:GREGORIAN
BEGIN:VEVENT
UID:sabre-vobject-698f4de7-5dfd-45bc-91b3-3734918aa662
DTSTAMP:20260421T103035Z
SUMMARY:Eröffnung 2. Tarot-Festival 2026
DESCRIPTION:Ragna Axen wird das dreieinhalbtägige Event eröffnen\, das Pu
 blikum willkommen heißen und auf das Festival einstimmen. Im direkten Ans
 chluss wird sie die erste Referentin mit ihrem Eröffnungs-Vortrag vorstel
 len.
LOCATION:Eisenbahner-Sportverein Konstanz e. V.\, Hafenstraße 14\, 78462 K
 onstanz
DTSTART;TZID=Europe/Zurich:20261022T134500
DTEND;TZID=Europe/Zurich:20261022T140000
ORGANIZER:Ragna Axen
END:VEVENT
END:VCALENDAR
