BEGIN:VCALENDAR
VERSION:2.0
PRODID:-//Sabre//Sabre VObject 4.5.8//EN
CALSCALE:GREGORIAN
BEGIN:VEVENT
UID:sabre-vobject-afae474f-3f49-4119-ad92-9f46c6947ba4
DTSTAMP:20260421T091220Z
SUMMARY:Flamenco für Kinder
DESCRIPTION:Flamenco hat für Kinder viele Vorteile: Es fördert die Koordi
 nation\, die Konzentration\, die Körperhaltung und die Musikalität. Kind
 er lernen Emotionen zum Ausdruck zu bringen. Ausserdem unterstützt das ge
 meinsame Tanzen in der Gruppe die sozialen Fähigkeiten. Und natürlich ma
 cht es viel Spass. Die Teilnehmenden stampfen\, klatschen und üben zierli
 che Bewegungen mit den Händen. \\n\\n
LOCATION:Tanzstudio\, Konstanzerstrasse 3\, 8274 Tägerwilen
DTSTART;TZID=Europe/Zurich:20260625T171500
DTEND;TZID=Europe/Zurich:20260625T181500
ORGANIZER:Flamenco Tanz & Bewegung
END:VEVENT
END:VCALENDAR
