BEGIN:VCALENDAR
VERSION:2.0
PRODID:-//Sabre//Sabre VObject 4.5.8//EN
CALSCALE:GREGORIAN
BEGIN:VEVENT
UID:sabre-vobject-7d188447-6b9e-48f7-998e-b9838579eae3
DTSTAMP:20260421T085713Z
SUMMARY:Ernst Kreidolf und der Kreislauf des Lebens
DESCRIPTION:Die Sonderausstellung «Fahrt ins Licht. Ernst Kreidolf und der
  Kreislauf des Lebens» rückt einen weniger bekannten Aspekt in Kreidolfs
  Werk in den Fokus: die Auseinandersetzung mit dem Tod. In Zeichnungen und
  Ölgemälden\, aber auch in seinen Bilderbüchern spart der Künstler exi
 stenzielle Fragen nicht aus. Schrecken\, Angst und Trauer stehen der Lauf 
 der Natur\, ein versöhnlicher Blick und die Hoffnung auf ein Weiterleben 
 gegenüber. Die Führung gibt einen Einblick in die faszinierende Bildwelt
  Ernst Kreidolfs. 
LOCATION:Museum Rosenegg\, Bärenstrasse 6\, 8280 Kreuzlingen
DTSTART;TZID=Europe/Zurich:20260418T150000
DTEND;TZID=Europe/Zurich:20260418T150000
ORGANIZER:Museum Rosenegg
END:VEVENT
END:VCALENDAR
