BEGIN:VCALENDAR
VERSION:2.0
PRODID:-//Sabre//Sabre VObject 4.5.8//EN
CALSCALE:GREGORIAN
BEGIN:VEVENT
UID:sabre-vobject-f831d182-7935-4b45-bfb8-eaccf7c05a30
DTSTAMP:20260421T142429Z
SUMMARY:Matinée: Lesung mit Hanspeter Müller-Drossaart
DESCRIPTION:Dieser Anlass wird in Zusammenarbeit mit der Bibliothek Sprooch
 brugg durchgeführt.
LOCATION:Kobesenmühle\, Kobesenmüli 60\, 9527 Niederhelfenschwil
DTSTART;TZID=Europe/Zurich:20260809T100000
DTEND;TZID=Europe/Zurich:20260809T100000
ORGANIZER:Kobesenmühle / Stiftung Wilhelm Lehmann
END:VEVENT
END:VCALENDAR
