BEGIN:VCALENDAR
VERSION:2.0
PRODID:-//Sabre//Sabre VObject 4.5.8//EN
CALSCALE:GREGORIAN
BEGIN:VEVENT
UID:sabre-vobject-e947edde-753b-4e91-b40c-12d30bee51d0
DTSTAMP:20260421T085709Z
SUMMARY:Performance von Isabelle Krieg «Ich erzähle Ihnen mein Leben»
DESCRIPTION:Isabelle Krieg setzt sich in ihrem Werk mit der eigenen Endlich
 keit auseinander. Nicht nur in Bildern und Installationen – auch in humo
 rvollen Performances wie «Ich erzähle Ihnen mein Leben».\nDarin zählt 
 sie ihre bis anhin gelebten Tage (über 19'000) und macht für jeden Tag e
 inen Strich an die Wand. Alle 1'000 Tage hält sie inne\, erzählt dem Pub
 likum ein Schlüsselerlebnis\, das sich etwa zu jener Zeit in ihrem Leben 
 zugetragen hat und trinkt ein kleines Gläschen Wodka.\\n\\nDauer der Perf
 ormance ca. 2 Stunden\, mit anschliessendem Ausklang in der Installation 
 «unendlich endlich».\\n\\nDie Ausstellung bleibt bis 21 Uhr geöffnet\, 
 der Eintritt ist frei.
LOCATION:Kunstmuseum Thurgau\, Kartause Ittingen\, 8532 Warth
DTSTART;TZID=Europe/Zurich:20260423T180000
DTEND;TZID=Europe/Zurich:20260423T180000
ORGANIZER:Kunstmuseum Thurgau
END:VEVENT
END:VCALENDAR
