BEGIN:VCALENDAR
VERSION:2.0
PRODID:-//Sabre//Sabre VObject 4.5.8//EN
CALSCALE:GREGORIAN
BEGIN:VEVENT
UID:sabre-vobject-941dab5e-8338-4783-9b6b-5379df56733b
DTSTAMP:20260421T123539Z
SUMMARY:Bedrohung Russlands für die EU – und die Schweiz?
DESCRIPTION:Obige Headlines oder Meldungen von Drohnen über Flugplätzen\,
  mit Schleppankern beschädigte Unterwasserkabel\, Verletzungen des europ
 äischen Luftraumes: das sind Schlagzeilen\, die wir in letzter Zeit immer
  wieder in allen Medien sehen konnten.\nDivisionär a.D. Peter Stutz wird 
 in seinem Referat die von Russland ausgehende Bedrohung für die EU und Fo
 lgen für die Schweiz aufzeigen. \nDie Teilnahme ist offen für alle Inte
 ressierten\, ungeachtet der Parteizugehörigkeit oder des Alters. Für den
  anschliessenden Apéro wird um einen freiwilligen Beitrag gebeten.\\n\\nA
 nreise mit dem ÖV: Der Veranstaltungsort ist nur 400 m vom Bahnhof entfer
 nt. Parkplätze stehen in den umliegenden Parkhäusern zur Verfügung.\\n\
 \nAuf eine zahlreiche Zuhörer:innenschaft freuen sich der Referent und di
 e Arbeitsgruppe von Mitte 60 plus\, Region Wil – Untertoggenburg.
LOCATION:Kath. Pfarreizentrum\, Wil SG\, Lerchenfeldstrasse 3\, 9500 Wil SG
DTSTART;TZID=Europe/Zurich:20260428T143000
DTEND;TZID=Europe/Zurich:20260428T143000
ORGANIZER:Die Mitte Wil-Untertoggenburg
END:VEVENT
END:VCALENDAR
