BEGIN:VCALENDAR
VERSION:2.0
PRODID:-//Sabre//Sabre VObject 4.5.8//EN
CALSCALE:GREGORIAN
BEGIN:VEVENT
UID:sabre-vobject-bf1dd0bb-de0c-48e7-b23a-894832148760
DTSTAMP:20260421T123812Z
SUMMARY:Das Kriminal Dinner Sherlock Holmes und die vergiftete Maultäschle
 supp
DESCRIPTION:Ihr Gatte fällt quasi tot vom Stuhl und nun gilt es den Mörde
 r zu finden. Zum Glück ist Meister-Detektiv Sherlock Holmes direkt vor Or
 t und macht sich direkt mit den Gästen an die verzwickten Ermittlungen.
LOCATION:Kantonsschule Kreuzlingen\, Pestalozzistrasse\, 8590 Romanshorn
DTSTART;TZID=Europe/Zurich:20270418T170000
DTEND;TZID=Europe/Zurich:20270418T170000
ORGANIZER:Kornhaus Romanshorn
END:VEVENT
END:VCALENDAR
