BEGIN:VCALENDAR
VERSION:2.0
PRODID:-//Sabre//Sabre VObject 4.5.8//EN
CALSCALE:GREGORIAN
BEGIN:VEVENT
UID:sabre-vobject-ec5b5428-c4ec-4d54-944a-a2fb3a99107b
DTSTAMP:20260421T105336Z
SUMMARY:Freundinnentag "Cool" durch die Wechseljahre
DESCRIPTION:Eine Besichtigung der Heilpflanzenkulturen\, ein Fachvortrag "C
 ool durch die Wechseljahre"\, ein vitalstoffreiches Mittagessen\, Einblick
 e in die Frischpflanzenproduktion\, Wissen über Heilpflannzen in der Selb
 stmedikation\, Herstellung eines eigenen Kräutersalzes sowie eine Produkt
 edegustation und Einkaufsmöglichkeit inkl. CHF 5.00 Gutschein.
LOCATION:A.Vogel AG\, Grünaustrasse 4\, 9325 Roggwil TG
DTSTART;TZID=Europe/Zurich:20260627T093000
DTEND;TZID=Europe/Zurich:20260627T143000
ORGANIZER:A.Vogel AG
END:VEVENT
END:VCALENDAR
