BEGIN:VCALENDAR
VERSION:2.0
PRODID:-//Sabre//Sabre VObject 4.5.8//EN
CALSCALE:GREGORIAN
BEGIN:VEVENT
UID:sabre-vobject-5cbcd8a3-3a53-4f76-9f2a-5d71c381a5e9
DTSTAMP:20260421T104049Z
SUMMARY:Balance-Tag "Stress\, Schlaf und Konzentration"
DESCRIPTION:Ein Tag mit Einblicke in die A.Vogel Philosophie\, Besichtigung
  der Heilpflanzenkulturen\, Fachvortrag "Stress\, Schlaf und Konzentration
 "\, vitalstoffreiches Mittagessen\, Einblicke in die Frischpflanzenprodukt
 ion\, Achtsamkeit und Entspannungsübungen sowie eine Produktedegustation 
 und Einkauf inklusiv Gutschein im Wert von CHF 5.00.
LOCATION:A.Vogel AG\, Grünaustrasse 4\, 9325 Roggwil TG
DTSTART;TZID=Europe/Zurich:20260819T093000
DTEND;TZID=Europe/Zurich:20260819T143000
ORGANIZER:A.Vogel AG
END:VEVENT
END:VCALENDAR
