BEGIN:VCALENDAR
VERSION:2.0
PRODID:-//Sabre//Sabre VObject 4.5.8//EN
CALSCALE:GREGORIAN
BEGIN:VEVENT
UID:sabre-vobject-af8f3e18-4730-4839-b857-70a4c088055a
DTSTAMP:20260421T104049Z
SUMMARY:Balance-Tag "Stress\, Schlaf und Konzentration"
DESCRIPTION:Ein Tag mit Einblicke in die A.Vogel Philosophie\, Besichtigung
  der Heilpflanzenkulturen\, Fachvortrag "Stress\, Schlaf und Konzentration
 "\, vitalstoffreiches Mittagessen\, Einblicke in die Frischpflanzenprodukt
 ion\, Achtsamkeit und Entspannungsübungen sowie eine Produktedegustation 
 und Einkauf inklusiv Gutschein im Wert von CHF 5.00.
LOCATION:A.Vogel AG\, Grünaustrasse 4\, 9325 Roggwil TG
DTSTART;TZID=Europe/Zurich:20260509T093000
DTEND;TZID=Europe/Zurich:20260509T143000
ORGANIZER:A.Vogel AG
END:VEVENT
END:VCALENDAR
