BEGIN:VCALENDAR
VERSION:2.0
PRODID:-//Sabre//Sabre VObject 4.5.8//EN
CALSCALE:GREGORIAN
BEGIN:VEVENT
UID:sabre-vobject-e15bc3d3-9009-4ffc-91f0-9e42e9738ee6
DTSTAMP:20260421T104047Z
SUMMARY:Ittinger Sternstunden «Tiefer als der Tag gedacht – Nachtgeschic
 hten»
DESCRIPTION:Ohne Dunkelheit keine Sterne. Daher widmet sich die zweite Ausg
 abe der Ittinger Sternstunden dem Thema Nacht. Sie bedeutet Freiheit nach 
 der Geschäftigkeit des Tages\, Freiraum für schöpferische Geister\, Rom
 antik oder Abenteuer. «Wir brauchen die Nacht\, um verborgene\, verbotene
  und vergessene Welten zu erfahren\, zu erforschen und von ihnen zu sprech
 en»\, so die Kultur- und Literaturwissenschaftlerin Elisabeth Bronfen.\nS
 ie gibt anhand ihrer fulminanten Kulturgeschichte der Nacht Einblicke in d
 ie Tiefen von Literatur\, Kunst\, Psychoanalyse und Kino. Nicola Steiner\,
  Kulturjournalistin\, Literaturkritikerin und Leiterin des Zürcher Litera
 turhauses begleitet Elisabeth Bronfen in dieser Walpurgisnacht auf der Rei
 se durch die Nacht.\\n\\nGemeinsam tauchen sie ein in das Buch «Tiefer al
 s der Tag gedacht»\, in die geheimnisvollen nächtlichen Welten der Gebor
 genheit\, der Erscheinungen\, der Verwandlungen\, aber auch der Neuanfäng
 e.\\n\\nDie Veranstaltungsreihe «Ittinger Sternstunden» steht für Dialo
 g\, Vision und Erkenntnis. Dreimal jährlich lädt die Kartause Ittingen m
 it hochkarätigen Gästen ein zum Innehalten\, Nachdenken und Weiterfragen
 . \nTüröffnung: 19.00 Uhr
LOCATION:Kartause Ittingen\, 8532 Warth
DTSTART;TZID=Europe/Zurich:20260430T193000
DTEND;TZID=Europe/Zurich:20260430T204500
ORGANIZER:Kunstmuseum Thurgau
END:VEVENT
END:VCALENDAR
