BEGIN:VCALENDAR
VERSION:2.0
PRODID:-//Sabre//Sabre VObject 4.5.8//EN
CALSCALE:GREGORIAN
BEGIN:VEVENT
UID:sabre-vobject-72866a3b-036d-46f7-9f0b-529997a9914e
DTSTAMP:20260421T105141Z
SUMMARY:Chôro - der brasilianische Blues - Odeon Chôro Quintett
DESCRIPTION:Jürg Kindle\, Gründer des «Odeon Chôro Quintett»\, hat sic
 h während 15 Jahren intensiv mit der Chôro Musik befasst und ist bei der
  Quellenforschung auf eine musikalische Goldgrube gestossen.\n«Odeon» m
 öchte diese verlorenen Raritäten einem breiten Publikum wieder zugängli
 ch machen. Virtuose Melodien wie auch melancholische Themen paaren sich mi
 t vorwärtstreibenden\, synkopierten Rhythmen und verströmen das von Sehn
 sucht\, Nostalgie und Wehmut geprägte Lebensgefühl der portugiesischen A
 uswanderer sowie auch der afrikanischen Sklaven\, welches in dem Wort «Sa
 udades» seinen Ausdruck findet. Ein Musikerlebnis mit Seltenheitswert.\nC
 harly Baur: Klarinette\, Bandoneon\\nJürg Kindle: Bandolim\, Gitarre\\nRi
 chard Kronig: Gitarre\, Cavaquinho\\nRalph Hufenus: Kontrabass\\nMarkus va
 n Grinsven: Percussion\n 
LOCATION:Alti Gerbi\, Tafelackerstrasse 8\, 9242 Oberuzwil
DTSTART;TZID=Europe/Zurich:20260924T200000
DTEND;TZID=Europe/Zurich:20260924T220000
ORGANIZER:Donnerstagsgesellschaft
END:VEVENT
END:VCALENDAR
