BEGIN:VCALENDAR
VERSION:2.0
PRODID:-//Sabre//Sabre VObject 4.5.8//EN
CALSCALE:GREGORIAN
BEGIN:VEVENT
UID:sabre-vobject-16e6f859-2604-4b78-af22-b4ca86d7e4c7
DTSTAMP:20260421T091220Z
SUMMARY:Vorlesetag: Geschichtenzeit
DESCRIPTION:
LOCATION:Stadtbibliothek Büecherbrugg\, Gaissbergstrasse 8 8\, 8280 Kreuzl
 ingen
DTSTART;TZID=Europe/Zurich:20260527T140000
DTEND;TZID=Europe/Zurich:20260527T143000
ORGANIZER:Stadtbibliothek Bücherbrugg
END:VEVENT
END:VCALENDAR
