BEGIN:VCALENDAR
VERSION:2.0
PRODID:-//Sabre//Sabre VObject 4.5.8//EN
CALSCALE:GREGORIAN
BEGIN:VEVENT
UID:sabre-vobject-7e65c7cb-7603-42d3-ace6-4d3f441a974d
DTSTAMP:20260419T145401Z
SUMMARY:Vorlesetag: Bilderbuchgeschichte
DESCRIPTION:
LOCATION:Stadtbibliothek Büecherbrugg\, Gaissbergstrasse 8 8\, 8280 Kreuzl
 ingen
DTSTART;TZID=Europe/Zurich:20260527T100000
DTEND;TZID=Europe/Zurich:20260527T103000
ORGANIZER:Stadtbibliothek Bücherbrugg
END:VEVENT
END:VCALENDAR
