BEGIN:VCALENDAR
VERSION:2.0
PRODID:-//Sabre//Sabre VObject 4.5.8//EN
CALSCALE:GREGORIAN
BEGIN:VEVENT
UID:sabre-vobject-747483c1-0e4f-49f6-a71b-53c6b72df872
DTSTAMP:20260421T122453Z
SUMMARY:Arenenberger Tag
DESCRIPTION:Am Arenenberg werden Bildung\, landwirtschaftliche Beratung mit
  Schul- und Versuchsbetrieben\, Hotellerie und Kultur miteinander verbunde
 n. Am Arenenberger Tag präsentiert sich der Betrieb in seiner gesamten Vi
 elfalt. Mitarbeitende begleiten die Gäste durch den Tag und geben Einblic
 k in die verschiedenen Bereiche.
LOCATION:Arenenberg\, Arenenberg 1\, 8268 Salenstein
DTSTART;TZID=Europe/Zurich:20260614T100000
DTEND;TZID=Europe/Zurich:20260614T170000
ORGANIZER:Napoleonmuseum Arenenberg
END:VEVENT
END:VCALENDAR
