BEGIN:VCALENDAR
VERSION:2.0
PRODID:-//Sabre//Sabre VObject 4.5.8//EN
CALSCALE:GREGORIAN
BEGIN:VEVENT
UID:sabre-vobject-7eaa9268-b60e-4987-ad2c-05a0a7bbc532
DTSTAMP:20260421T085702Z
SUMMARY:Metzgete auf dem Schiff in Ermatingen - Traditionell & maritim!
DESCRIPTION:Zum vierten Mal verwandelt sich das Schiff erMarina im Hafen Er
 matingen in eine maritime Metzgete-Location. Unter der Leitung vom Schiffs
 -Chefkoch werden deftige Spezialitäten rund ums Säuli à discrétion ser
 viert: Blut- und Leberwurst\, Bratwurst\, Kesselfleisch\, Rippli\, Leberli
 \, paniertes Kotelett\, dazu köstliche Beilagen wie Sauerkraut\, Rösti\,
  Salzkartoffeln und Apfelmus.\nZwei Locations bieten individuelle Atmosph
 äre: rustikales SeeChalet oder eleganter Salon Achtern. Zusatzgerichte wi
 e Blattsalat oder Zwetschgenkompott runden das Angebot ab. Ideal für Fami
 lien\, Freunde oder Firmenevents.
LOCATION:Ermatingen\, 8272 Ermatingen
DTSTART;TZID=Europe/Zurich:20261031T170000
DTEND;TZID=Europe/Zurich:20261031T233000
ORGANIZER:erMarina / Event- & Gastroschiff Stedi-Schiff GmbH
END:VEVENT
END:VCALENDAR
