BEGIN:VCALENDAR
VERSION:2.0
PRODID:-//Sabre//Sabre VObject 4.5.8//EN
CALSCALE:GREGORIAN
BEGIN:VEVENT
UID:sabre-vobject-716dd272-734f-4d01-a947-6f8fe1151cd9
DTSTAMP:20260421T105336Z
SUMMARY:Oktoberfest Schiff im Hafen Ermatingen am Bodensee
DESCRIPTION:Zum vierten Mal verwandelt sich das Schiff erMarina im Hafen Er
 matingen in eine stimmungsvolle Oktoberfest-Location. Bayrische Spezialit
 äten vom Buffet à discrétion\, DJ-Party und zwei Locations: urig-feierl
 ich im SeeChalet oder stilvoll-gemütlich im Salon Achtern. Das Schiff ble
 ibt im Hafen – entspanntes Feiern ab 17 Uhr ohne Wellengang.\nIdeal für
  Freundesgruppen\, Geburtstage oder Firmenevents.
LOCATION:Ermatingen\, 8272 Ermatingen
DTSTART;TZID=Europe/Zurich:20261023T170000
DTEND;TZID=Europe/Zurich:20261023T235500
ORGANIZER:erMarina / Event- & Gastroschiff Stedi-Schiff GmbH
END:VEVENT
END:VCALENDAR
