BEGIN:VCALENDAR
VERSION:2.0
PRODID:-//Sabre//Sabre VObject 4.5.8//EN
CALSCALE:GREGORIAN
BEGIN:VEVENT
UID:sabre-vobject-70f4ede7-193a-47e0-971c-32ab654b8caf
DTSTAMP:20260421T105144Z
SUMMARY:Wolfgang Kuchler bittet zu Tisch – im Prestige Continental Expres
 s
DESCRIPTION:Ein Fest für alle Sinne - In den prachtvollen\, im Belle-Époq
 ue Stil\, gehaltenen Wagen "Le Salon Bleu" und "Le Rubis Noir" serviert Ih
 nen kein geringerer als Spitzenkoch Wolfgang Kuchler seine raffinierten Kr
 eationen. Jedes Gericht ist eine Hommage an die hohe Kochkunst - perfekt a
 bgestimmt und mit Liebe zum Detail angerichtet. Für die perfekte Begleitu
 ng im Glas sorgt Harrys WeinWelt mit einer Auswahl an erlesener Weine\, di
 e die kulinarische Reise harmonisch abrunden.\nEINSTIEGSORTE\\nFrauenfeld
     ab 17.25h an 21.45h\\nKreuzlingen  ab 18.30h an 22.30h\\n\\nHARRYS 
 WEINWELT\, Kreuzlingen \\nin Zusammenarbeit mit \\nRAIL EVENT AG\, Frauenf
 eld\n \n \n \n \n \n \n \n \n \n \n 
LOCATION:Bahnhof Kreuzlingen\, Bahnhofstrasse\, 8280 Kreuzlingen
DTSTART;TZID=Europe/Zurich:20260725T183000
DTEND;TZID=Europe/Zurich:20260725T223000
ORGANIZER:Rail Event AG
END:VEVENT
END:VCALENDAR
