BEGIN:VCALENDAR
VERSION:2.0
PRODID:-//Sabre//Sabre VObject 4.5.8//EN
CALSCALE:GREGORIAN
BEGIN:VEVENT
UID:sabre-vobject-701f7f13-be92-4cfc-a08d-7df43d192056
DTSTAMP:20260419T145520Z
SUMMARY:Biber - Baumeister der Natur
DESCRIPTION:Gross und Klein erfahren auf dieser zweieinhalbstündigen Rundw
 anderung\, warum der Biber mit einem Holzfäller verglichen werden kann un
 d wie der Biber in seinem Bau haust.\nAnhand von unterschiedlichen Bibersp
 uren auf dem Biberpfad des WWF St. Gallen werden seine sozialen Verhaltens
 - und Lebensweisen kennengelernt. Welche unterschiedlichen Funktionsweisen
  erfüllt die Kelle (der Schwanz des Bibers)? Was ist Bibergeil und warum 
 war es so beliebt?\nAuf dieser Exkursion erfahren die Teilnehmenden\, waru
 m dieses scheue Tier gefährdet ist und aus welchen Gründen es vor ein pa
 ar Jahren fast ausgerottet wurde. Mit etwas Glück wird vielleicht noch ei
 n Biberdamm entdeckt.\nKostenloser Jubiläumsanlass des WWF SG
LOCATION:Bushaltestelle Oberbüren\, Zentrum\, Schlossgarten\, 9245 Oberbü
 ren
DTSTART;TZID=Europe/Zurich:20270109T100000
DTEND;TZID=Europe/Zurich:20270109T123000
ORGANIZER:WWF Regiobuero AP-SG-TG
END:VEVENT
END:VCALENDAR
