BEGIN:VCALENDAR
VERSION:2.0
PRODID:-//Sabre//Sabre VObject 4.5.8//EN
CALSCALE:GREGORIAN
BEGIN:VEVENT
UID:sabre-vobject-53cfb0a5-87ea-4f6d-891b-4dceca5a7514
DTSTAMP:20260421T145834Z
SUMMARY:Robotik für Einsteiger:innen
DESCRIPTION:Die Teilnehmenden erlernen die Anfänge der Robotik und bauen m
 it Lego Spike ihr eigenes Fahrzeug.
LOCATION:Talenticum\, Bahnhofstrasse 40a\, 8590 Romanshorn
DTSTART;TZID=Europe/Zurich:20260612T160000
DTEND;TZID=Europe/Zurich:20260612T173000
ORGANIZER:Talenticum
END:VEVENT
END:VCALENDAR
