BEGIN:VCALENDAR
VERSION:2.0
PRODID:-//Sabre//Sabre VObject 4.5.8//EN
CALSCALE:GREGORIAN
BEGIN:VEVENT
UID:sabre-vobject-2d1f8242-2ba5-4f84-a84b-43e079d779fa
DTSTAMP:20260421T150014Z
SUMMARY:Robotik für Einsteiger:innen
DESCRIPTION:Die Teilnehmenden erlernen die Anfänge der Robotik und bauen m
 it Lego Spike ihr eigenes Fahrzeug.
LOCATION:Talenticum\, Bahnhofstrasse 40a\, 8590 Romanshorn
DTSTART;TZID=Europe/Zurich:20260605T160000
DTEND;TZID=Europe/Zurich:20260605T173000
ORGANIZER:Talenticum
END:VEVENT
END:VCALENDAR
