BEGIN:VCALENDAR
VERSION:2.0
PRODID:-//Sabre//Sabre VObject 4.5.8//EN
CALSCALE:GREGORIAN
BEGIN:VEVENT
UID:sabre-vobject-386611c1-da0a-4f79-9679-9248c39eb34e
DTSTAMP:20260421T120251Z
SUMMARY:Buchhorn Brunch
DESCRIPTION:1 Glas Prosecco\\nSonntagszopf\, Gipfel\, Kornbrot &amp\; weite
 re Brotspezialitäten\\nKonfitüre\, Honig &amp\; Butter\\nHausgemachtes B
 irchermüesli &amp\; Naturjoghurt mit Granola und Beeren\\nChia-Pudding (v
 egan)\\nFischspezialitäten: geräucherte Forelle\, gebeizter Rauchlachs &
 amp\;\\nCrevetten-Cocktail\\nKäseplatte: Halbhart-\, Weich- &amp\; Frisch
 käse\\nFleischplatte: Salami\, Saftschinken &amp\; Aufschnitt\\ngekochte 
 Eier\\nButterrösti\\nGebratener Frühstücksspeck &amp\; Rührei\\nFrüch
 teplatte\\nHausgemachte Kuchen\\nFruchtsäfte &amp\; hausgemachte Limonade
 n\\nKaffee &amp\; Tee
LOCATION:Seerestaurant Buchhorn\, Philosophenweg 11 11\, 9320 Arbon
DTSTART;TZID=Europe/Zurich:20260712T090000
DTEND;TZID=Europe/Zurich:20260712T130000
ORGANIZER:Seerestaurant Buchhorn
END:VEVENT
END:VCALENDAR
