BEGIN:VCALENDAR
VERSION:2.0
PRODID:-//Sabre//Sabre VObject 4.5.8//EN
CALSCALE:GREGORIAN
BEGIN:VEVENT
UID:sabre-vobject-d261b9d4-12fc-42d2-8087-33a90974441e
DTSTAMP:20260421T105230Z
SUMMARY:Biodiversität im Schulmuseum Thurgau\, Amriswil
DESCRIPTION:Bei diesem Rundgang lernen die Teilnehmenden die faszinierende 
 Welt der Insekten kennen. Einheimische Pflanzen sind die Grundlage für ei
 nheimische Insekten. Ohne einheimische Pflanzen finden die Insekten nicht 
 genügend Futter oder Lebensraum für Ihre Entwicklung. Im Kurs erfahren I
 nteressierte\, welchen wichtigen Stellenwert die Insekten im Ökosystem 
 ‘Garten’ einnehmen.\nAusrüstung: je nach Witterung Treffpunkt: im Gar
 ten vom Schulmuseum\nReferent: Andreas Kopp\, Landschaftsgärtner\, Präsi
 dent Entomologischer Verein Alpstein\nAllgemein: Die kostenfreie Kurse sin
 d Teil des Projektes «Für mehr Biodiversität im Siedlungsraum» von Jar
 dinSuisse Thurgau\, in Zusammenarbeit mit dem Schulmuseum Amriswil.\nWicht
 ig: Der Kurs findet nur bei trockener Witterung statt
LOCATION:Schulmuseum Thurgau\, Weinfelderstrasse 127\, 8580 Amriswil
DTSTART;TZID=Europe/Zurich:20260813T180000
DTEND;TZID=Europe/Zurich:20260813T200000
ORGANIZER:JardinSuisse Thurgau
END:VEVENT
END:VCALENDAR
