BEGIN:VCALENDAR
VERSION:2.0
PRODID:-//Sabre//Sabre VObject 4.5.8//EN
CALSCALE:GREGORIAN
BEGIN:VEVENT
UID:sabre-vobject-6017ed2e-d2d9-47b2-9b1f-f5db05b90859
DTSTAMP:20260421T105228Z
SUMMARY:Biodiversität im Schulmuseum Thurgau\, Amriswil
DESCRIPTION:Igel\, summende Insekten\, Reptilien\, bunte Vogel- und Schmett
 erlingsarten– sie alle brauchen sogenannte Kleinstrukturen in ihrem Lebe
 nsraum. Kleinstrukturen wie etwa Ast- oder Steinhaufen übernehmen für si
 e überlebenswichtige Funktionen: Sie sind Zufluchtsort\, Brutstätte\, Ru
 hezone für Fortpflanzung und Winterschlaf\, sie erleichtern die Nahrungss
 uche und die Ausbreitung in weitere geeignete Lebensräume.\nDamit sich m
 öglichst viele Tier- und Pflanzenarten im naturnahen Garten wohlfühlen\,
  braucht es unterschiedliche Lebensräume. Mit Holz- oder Sandlinsen sowie
  einheimischen Pflanzen und Wildstauden nehmen die natürliche Bedingungen
  Einzug im Garten.\n \nAusrüstung: Arbeitskleidung Treffpunkt: im Garten
  vom Schulmuseum\nReferent: Markus Allemann\, Naturgärten GmbH\, 9562 Mä
 rwil\nDer Kurs findet bei jeder Witterung statt. Dauer: zirka 2 Stunden
LOCATION:Schulmuseum Thurgau\, Weinfelderstrasse 127\, 8580 Amriswil
DTSTART;TZID=Europe/Zurich:20260917T173000
DTEND;TZID=Europe/Zurich:20260917T200000
ORGANIZER:JardinSuisse Thurgau
END:VEVENT
END:VCALENDAR
