BEGIN:VCALENDAR
VERSION:2.0
PRODID:-//Sabre//Sabre VObject 4.5.8//EN
CALSCALE:GREGORIAN
BEGIN:VEVENT
UID:sabre-vobject-3fa0dfff-4fc2-46c9-8b38-f7a0de1fab25
DTSTAMP:20260421T142505Z
SUMMARY:Naturjuwel Lehmtümpel
DESCRIPTION:Im Wasser liegend\, die Beine von sich gestreckt\, findet man d
 ie Gelbbauchunke in kleinen\, temporären Gewässern. Wenn sie nicht gerad
 e im Wasser ein Sonnenbad nimmt\, ist sie dank ihrer lehmbraunen Rückenf
 ärbung schwierig zu entdecken. Da ihr Lebensraum und derer von vielen Amp
 hiben und Reptilien immer mehr schwindet\, wurden in Fischingen in einer e
 hemaligen Kiesgrube diverse Massnahmen getroffen.\nEs wurden 25 Lehmtümpe
 l gebaut und 35 Gummi-Pflasterwannen verbuddelt\, welche mittlerweile das 
 neue Zuhause von Gelbbauchunken\, Fadenmolchen oder auch Ringelnattern sin
 d. Insgesamt 11 Amphibien- und Reptilienarten kann man in dieser «offenen
  Landschaftswunde – sprich Kiesgrube» finden.\nDemeinsam mit Niklaus Sc
 hnell\, Präsident von «NaturPlus-Fischingen»\, bestaunen die Teilnehmen
 den die grosse Artenvielfalt in dem seit über 20 Jahren ökologisch aufge
 werteten Lebensraum.
LOCATION:Bushaltestelle Dussnang\, Kirche/Klinik\, 8374 Fischingen
DTSTART;TZID=Europe/Zurich:20260628T100000
DTEND;TZID=Europe/Zurich:20260628T150000
ORGANIZER:WWF Regiobuero AP-SG-TG
END:VEVENT
END:VCALENDAR
