BEGIN:VCALENDAR
VERSION:2.0
PRODID:-//Sabre//Sabre VObject 4.5.8//EN
CALSCALE:GREGORIAN
BEGIN:VEVENT
UID:sabre-vobject-845e8329-1d97-4744-b7ed-876692af818b
DTSTAMP:20260419T221137Z
SUMMARY:Sonnenzauber
DESCRIPTION:Auch in dieser Saison laden wir mit unseren Konzerten für die 
 Allerkleinsten Eltern und Babys zu einem besonderen Hörerlebnis ein. In e
 ntspannter Atmosphäre und mit altersgerechtem  Programm bringen MusikerI
 nnen der Bodensee Philharmonie klassische Musik zum Klingen – nahbar\, b
 erührend und auf Augenhöhe der Kleinsten. \nPaula Díaz Oboe\\nYuki Kis
 hikawa Fagott\nMelodien aus Giacomo Puccinis »La bohème«.\\nMit finanzi
 eller Unterstützung durch den Kanton Thurgau Lotteriefonds.
LOCATION:Apollo Kulturhaus Kreuzlingen\, Konstanzerstrasse 32\, 8280 Kreuzl
 ingen
DTSTART;TZID=Europe/Zurich:20260520T090000
DTEND;TZID=Europe/Zurich:20260520T101500
ORGANIZER:Bodensee Philharmonie
END:VEVENT
END:VCALENDAR
