BEGIN:VCALENDAR
VERSION:2.0
PRODID:-//Sabre//Sabre VObject 4.5.8//EN
CALSCALE:GREGORIAN
BEGIN:VEVENT
UID:sabre-vobject-d2c36567-3ae4-454e-8f8c-45853236ed94
DTSTAMP:20260421T113615Z
SUMMARY:Thomas Scheytt
DESCRIPTION:Thomas Scheytt gilt als „einer der besten zeitgenössischen B
 oogie- und Blues Pianisten. Er verbindet in seinem Spiel hohes pianistisch
 es Können mit einer \\n\nunglaublichen\, tiefempfundenen Ausdrucksvielfal
 t“ (Jazzpodium Deutschland). Am Samstag\, 13. Juni 2026 um 18 Uhr kommt 
 er mit Klassikern des Blues & Boogie Woogie und eigenen Kompositionen in d
 en Landenbergsaal von Schloß Arbon.\\n\n\\n\nScheytt gehört zu den meist
 beschäftigten Musikern der europäischen Blues- und Boogie-Szene. Er ist 
 seit über 20 Jahren nicht nur als Solist\, sondern auch mit seinem Trio B
 oogie Connection in Jazzclubs und auf Festivals im In- und Ausland zu Gast
  - allein vier Mal beim weltberühmten New Orleans Jazz Festival in Ascona
 . \\n\n\\n\nScheytt wurde mehrfach ausgezeichnet. Besonderes Ansehen versc
 hafften ihm die Nominierung seiner CD Blues Colours für den Preis der deu
 tschen Schallplattenkritik sowie der zweifache Gewinn des German Blues Awa
 rd 2015.Einlass ab 17:30 Uhr
LOCATION:Schloss Arbon\, Schlossgasse 1\, 9320 Arbon
DTSTART;TZID=Europe/Zurich:20260613T180000
DTEND;TZID=Europe/Zurich:20260613T180000
ORGANIZER:Thomas Scheytt
END:VEVENT
END:VCALENDAR
