BEGIN:VCALENDAR
VERSION:2.0
PRODID:-//Sabre//Sabre VObject 4.5.8//EN
CALSCALE:GREGORIAN
BEGIN:VEVENT
UID:sabre-vobject-d68d9826-7f47-4c81-9bc1-6e864d70fdc6
DTSTAMP:20260421T123533Z
SUMMARY:Vom Gras zum Korb
DESCRIPTION:Halm für Halm\, Büschel für Büschel - in diesem Tageskurs e
 ntsteht dein persönlicher Korb aus Gräsern und getrockneten Kräutern. O
 b als Brotkorb\, Geschenk oder für dich selbst - er wird Ausdruck deiner 
 Kreativität.\\nBeim Korbwickeln erwacht eine alte Handwerkskunst zu neuem
  Leben.\\nAm Mittag bereiten die Teilnehmenden am Feuer feine Heukartoffel
 n zu und geniessen dazu eine Teilete von paaenden Beilagen\, die die Teiln
 ehmer mitbringen.
LOCATION:Pfadiheim Mühliwald\, 8570 Weinfelden
DTSTART;TZID=Europe/Zurich:20260613T100000
DTEND;TZID=Europe/Zurich:20260613T163000
ORGANIZER:Marianne Zweifel
END:VEVENT
END:VCALENDAR
