BEGIN:VCALENDAR
VERSION:2.0
PRODID:-//Sabre//Sabre VObject 4.5.8//EN
CALSCALE:GREGORIAN
BEGIN:VEVENT
UID:sabre-vobject-aacb7095-1e11-4384-9f3b-d11358d4da30
DTSTAMP:20260421T092713Z
SUMMARY:Deine Stimme\, deine Geschichte\, dein Hörspiel
DESCRIPTION:Hörbuch-Magierin oder Hörbuch-Zauberer werden: Aus spannenden
 \, lustigen oder geheimnisvollen Texten vorlesen und diese mit Geräuschen
 \, Stimmen und Stimmungen gestalten. Vielleicht erfindet sich sogar ein ga
 nz neues Märchen oder ein Abenteuer. Ob flüsternd\, quatschend oder brü
 llend wie ein Drache – hier darf alles ausprobiert werden.
LOCATION:Talenticum\, Bahnhofstrasse 40a\, 8590 Romanshorn
DTSTART;TZID=Europe/Zurich:20260610T160000
DTEND;TZID=Europe/Zurich:20260610T180000
ORGANIZER:Talenticum
END:VEVENT
END:VCALENDAR
