BEGIN:VCALENDAR
VERSION:2.0
PRODID:-//Sabre//Sabre VObject 4.5.8//EN
CALSCALE:GREGORIAN
BEGIN:VEVENT
UID:sabre-vobject-47217a06-52f1-4c2a-9ca0-b27e4e3c2703
DTSTAMP:20260421T142505Z
SUMMARY:Die Sonne\, der Mond und die Sterne
DESCRIPTION:Gesungen werden Lieder in vier Sprachen\, aus drei musikalische
 n Epochen: Madrigale aus der Spätrenaissance\, Lieder aus der deutschen u
 nd französischen Romantik\, sowie amerikanische Jazz-Standards und Lieder
  aus Musicals. Alle Stücke nehmen Bezug auf unsere Himmelskörper. \nSte
 fan Kägi begleitet am Klavier. 
LOCATION:Aula Sandbänkli\, Sandbänkli 5\, 9220 Bischofszell
DTSTART;TZID=Europe/Zurich:20260606T200000
DTEND;TZID=Europe/Zurich:20260606T211500
ORGANIZER:BLECH\, der Bischofszeller Lehrer*innen Chor
END:VEVENT
END:VCALENDAR
