BEGIN:VCALENDAR
VERSION:2.0
PRODID:-//Sabre//Sabre VObject 4.5.8//EN
CALSCALE:GREGORIAN
BEGIN:VEVENT
UID:sabre-vobject-383a46c0-22b4-4d19-b82b-825436d405f6
DTSTAMP:20260421T103037Z
SUMMARY:Café Español
DESCRIPTION:Die Sprachencafés sind lockere Runden\, um die jeweilige Sprac
 he zu sprechen oder zu hören. Es wird kein Niveau vorausgesetzt und es is
 t keine Anmeldung notwendig.\\nWeitere Informationen und Kontaktpersonen: 
 www.vbdk.ch\\n\\nDauer: 1.5 – 2 Stunden\\nEintritt frei
LOCATION:Kantonsbibliothek Thurgau\, Promenadenstrasse 12\, 8500 Frauenfeld
DTSTART;TZID=Europe/Zurich:20260429T193000
DTEND;TZID=Europe/Zurich:20260429T210000
ORGANIZER:Verein Bibliothek der Kulturen
END:VEVENT
END:VCALENDAR
