BEGIN:VCALENDAR
VERSION:2.0
PRODID:-//Sabre//Sabre VObject 4.5.8//EN
CALSCALE:GREGORIAN
BEGIN:VEVENT
UID:sabre-vobject-ba60d250-d5ca-4a1e-8ca1-1d57c7a55242
DTSTAMP:20260419T131402Z
SUMMARY:Swiss Percussion Competition 2026
DESCRIPTION:Über 350 Teilnehmende aus der ganzen Schweiz treffen sich in W
 interthur um sich zu messen. Das Schlagzeug und verschiedene Perkussions-I
 nstrumente wie Xylophon\, Marimbaphon\, Timpani etc. sind in verschiedene 
 Solo-und Ensemble-Kategorien zu hören. 
LOCATION:Mehrzweckanlage Teuchelweiher\, Zeughaussstrasse 65/67/ 69\, 8400 
 Winterthur
DTSTART;TZID=Europe/Zurich:20260912T090000
DTEND;TZID=Europe/Zurich:20260912T200000
ORGANIZER:Swiss Percussion Competition
END:VEVENT
END:VCALENDAR
