BEGIN:VCALENDAR
VERSION:2.0
PRODID:-//Sabre//Sabre VObject 4.5.8//EN
CALSCALE:GREGORIAN
BEGIN:VEVENT
UID:sabre-vobject-911dab9a-7b7e-4635-9bdb-fb4c6947aff0
DTSTAMP:20260421T122453Z
SUMMARY:Thilo Wagner Trio
DESCRIPTION:Der höllisch swingende Klavierstil des in Stuttgart lebenden P
 ianisten Thilo Wagner gehört zum Besten\, was die deutsche Jazzszene zu b
 ieten hat. Seine halsbrecherischen Läufe\, die expressiven Balladen oder 
 die groovenden Blueszitate verblüffen und begeistern das Publikum\, wo im
 mer er auftritt. Auf Tour mit Bassist Jean-Philippe Wadle und Schlagzeuger
  Gregor Beck macht der Ausnahmepianist und Ehrenbürger der Stadt New Orle
 ans am 11. Juni 2026 Station bei Jazz unter Palmen auf der Insel Mainau.\n
 Das Trio vereint drei Musiker\, die jeder für sich auf eine beeindruckend
 e Karriere zurückblicken\, und gemeinsam ein Jazzensemble von internation
 alem Format bilden. In ihrem Zusammenspiel verkörpern sie die Essenz des 
 swingenden Jazz: brillante Improvisationen\, lebendige Interaktion und ein
  unbändiger Groove\, der unmittelbar Herz und Beine erreicht. Mit ihrer M
 usik schlagen sie eine Brücke zwischen Tradition und Gegenwart und zeigen
  eindrucksvoll\, dass Jazz zeitlos fasziniert. Ihr Repertoire umfasst Inte
 rpretationen bekannter wie auch weniger gehörter Jazzstandards aus dem Gr
 eat American Songbook.
LOCATION:Palmenhaus Insel Mainau\, 78465 Insel Mainau
DTSTART;TZID=Europe/Zurich:20260611T200000
DTEND;TZID=Europe/Zurich:20260611T200000
ORGANIZER:Europäisches KulturForum Mainau e.V.
END:VEVENT
END:VCALENDAR
