BEGIN:VCALENDAR
VERSION:2.0
PRODID:-//Sabre//Sabre VObject 4.5.8//EN
CALSCALE:GREGORIAN
BEGIN:VEVENT
UID:sabre-vobject-ca1083ae-e1cc-4683-aff6-ae0678e19354
DTSTAMP:20260421T123633Z
SUMMARY:Olivier Chavet – Racines
DESCRIPTION:Im zweiten Soloalbum “Elements” des deutsch-belgischen Musi
 kers Olivier Chavet treffen Jazz und Natur aufeinander. Kein Wunder\, denn
  neben seiner Karriere als Musiker bewirtschaftet der studierte Jazzschlag
 zeuger einen Biobauernhof. Mit seinen Soul-orientierten Kompositionen begi
 bt sich Chavet auf die Suche danach\, was im Leben wirklich wichtig ist.\n
 Seine Musik ist eine Hommage an die Natur mit ihren vier Elementen\, die i
 hm als Inspirationsquelle dienen\, und an die raue und doch wunderschöne 
 Landschaft der Eifel\, die sein Zuhause ist. Am 9. Juli 2026 gastiert Chav
 et mit seinem international besetzten Quartett im Palmenhaus der Insel Mai
 nau. Mit dabei der langjährige Weggefährte und Bassist Werner Lauscher\,
  Trompeter Carlo Nardozza und am Piano die belgische Jazzgröße Igor Gehe
 not.
LOCATION:Palmenhaus Insel Mainau\, 78465 Insel Mainau
DTSTART;TZID=Europe/Zurich:20260709T200000
DTEND;TZID=Europe/Zurich:20260709T200000
ORGANIZER:Europäisches KulturForum Mainau e.V.
END:VEVENT
END:VCALENDAR
