BEGIN:VCALENDAR
VERSION:2.0
PRODID:-//Sabre//Sabre VObject 4.5.8//EN
CALSCALE:GREGORIAN
BEGIN:VEVENT
UID:sabre-vobject-5067618f-d496-4c0f-a9dc-1db01b45a6bf
DTSTAMP:20260421T123655Z
SUMMARY:Festwochenende 125 Jahre Musikgesellschaft Neukirch-Egnach
DESCRIPTION:
LOCATION:Mehrzweckhalle Rietzelg\, Rietzelgweg 3\, 9315 Neukirch (Egnach)
DTSTART;TZID=Europe/Zurich:20260927T100000
DTEND;TZID=Europe/Zurich:20260927T100000
ORGANIZER:Musikgesellschaft Neukirch-Egnach
END:VEVENT
END:VCALENDAR
