BEGIN:VCALENDAR
VERSION:2.0
PRODID:-//Sabre//Sabre VObject 4.5.8//EN
CALSCALE:GREGORIAN
BEGIN:VEVENT
UID:sabre-vobject-2ac4457c-43b1-4830-8745-af5d4656c1e2
DTSTAMP:20260421T103953Z
SUMMARY:Adventskonzert gemeinsam mit Jodlerclub Neukirch-Egnach
DESCRIPTION:
LOCATION:evangelisch-reformierte Kirche\, Amriswilerstrasse 1\, 9315 Neukir
 ch (Egnach)
DTSTART;TZID=Europe/Zurich:20261206T170000
DTEND;TZID=Europe/Zurich:20261206T170000
ORGANIZER:Musikgesellschaft Neukirch-Egnach
END:VEVENT
END:VCALENDAR
