BEGIN:VCALENDAR
VERSION:2.0
PRODID:-//Sabre//Sabre VObject 4.5.8//EN
CALSCALE:GREGORIAN
BEGIN:VEVENT
UID:sabre-vobject-d316a02f-7b10-42da-b31a-e8723ef541a1
DTSTAMP:20260421T141428Z
SUMMARY:Degustationstag
DESCRIPTION:Auf dem Weingut Türmliwy werden eigene Weine zum geniessen Ang
 eboten. Sowie Live-Musik von Maul-Wurd A Capella und feines Essen von Gius
 is Restaurant aus Amriswil.
LOCATION:Türmliwy\, Thalackerstrasse 5\, 8586 Buchackern
DTSTART;TZID=Europe/Zurich:20260705T100000
DTEND;TZID=Europe/Zurich:20260705T160000
ORGANIZER:Türmliwy
END:VEVENT
END:VCALENDAR
