BEGIN:VCALENDAR
VERSION:2.0
PRODID:-//Sabre//Sabre VObject 4.5.8//EN
CALSCALE:GREGORIAN
BEGIN:VEVENT
UID:sabre-vobject-0cd7728d-3a48-4b97-a748-716bae053bcc
DTSTAMP:20260419T123044Z
SUMMARY:Orgel-Matinée Elf nach Elf
DESCRIPTION:Konzertinfos: Dauer: 30 Minuten Im Anschluss an die Konzerte be
 steht die Möglichkeit mit den Musiker:innen mehr über die Orgel zu erfah
 ren. 
LOCATION:Evangelische Kirche Amriswil\, Friedhofweg 2\, 8580 Amriswil
DTSTART;TZID=Europe/Zurich:20260613T111100
DTEND;TZID=Europe/Zurich:20260613T114500
ORGANIZER:Amriswiler Konzerte
END:VEVENT
END:VCALENDAR
