BEGIN:VCALENDAR
VERSION:2.0
PRODID:-//Sabre//Sabre VObject 4.5.8//EN
CALSCALE:GREGORIAN
BEGIN:VEVENT
UID:sabre-vobject-6cf4cf12-bbcf-4e72-a31e-80b81c6b16df
DTSTAMP:20260421T085659Z
SUMMARY:Glarisegger Chor singt Mozart
DESCRIPTION:Den Titel "Krönungsmesse" erhielt die Messe durch ihre Auffüh
 rungen bei kaiserlichen Krönungszeremonien in Wien in den Jahren 1790 und
  1791. Der damalige Wiener Hofkapellmeister\, Antonio Salieri\, berichtete
 \, dass er zu den drei Krönungen jeweils "fast genau die gleiche Musik" a
 ufs Programm gesetzt habe.\nDie Erstaufführung fand beim festlichen Oster
 gottesdienst im Salzburger Dom statt. Mozarts Klarinettenkonzert A-Dur (KV
  622)\, sein letztes vollendetes Instrumentalwerk\, wurde 1791 für seinen
  Freund\, den Klarinettisten Anton Stadler\, komponiert\, der eine innovat
 ive Bassettklarinette mit tieferer Lage nutzte. Mozart widmete sich dem St
 ück nach einer unvollendeten Skizze für ein Bassetthorn\, um Stadlers Vi
 rtuosität zu präsentieren\, bevor er im Alter von 35 Jahren starb. Es is
 t bekannt für seinen lyrischen\, gesanglichen Stil und wurde ursprünglic
 h für das spezielle Instrument geschrieben\, aber später für die normal
 e A-Klarinette adaptiert.\nDas Programm: Exsultate Jubilate KV 165 I Klari
 nettenkonzert KV 622 I Laudate Dominum KV 339 I Krönungsmesse KV 317\nAus
 führende: Glarisegger Chor Fabio Di Càsola\, Klarinette Yeree Suh\, Sopr
 an Céline Akçağ\, Alt Nino Gmünder\, Tenor Ruben Drole\, Bass \nSwiss
  Festival Orchestra\nLeitung Heinz Bähler
LOCATION:Evangelische Kirche Amriswil\, Friedhofweg 1 1\, 8580 Amriswil
DTSTART;TZID=Europe/Zurich:20260510T170000
DTEND;TZID=Europe/Zurich:20260510T183000
ORGANIZER:Amriswiler Konzerte
END:VEVENT
END:VCALENDAR
