BEGIN:VCALENDAR
VERSION:2.0
PRODID:-//Sabre//Sabre VObject 4.5.8//EN
CALSCALE:GREGORIAN
BEGIN:VEVENT
UID:sabre-vobject-55434169-9372-4ba8-8763-49675279b0a8
DTSTAMP:20260421T091221Z
SUMMARY:Magie der Brennnessel – Die Fäden der Langsamkeit
DESCRIPTION:Wie im Märchen von Rumpelstilzchen verwandeln sich mit Geduld 
 und etwas Geschick „Brennnesselfasern zu Gold“. Dazu wird die Brennnes
 sel geerntet und von der Faser zum Garn aufbereitet. Wir werdem mit den H
 änden werkeln und veredeln. \\n\\nDie Vielfalt dieser ganz besonderen ura
 lte magischen Pflanze ist für uns Menschen ein unglaublicher Schatz. Die 
 Brennnessel ist zum Anfassen\, Essen\, Färben und Spinnen da!\\n\\nDazu w
 ird die Brennnessel geerntet und von der Faser zum Garn aufbereitet. Die T
 eilnehmenden werden sammeln\, spinnen\, knüpfen\, kochen\, drehen und mit
  den Händen werkeln und veredeln. Es ist die Hingabe für ein besonderes 
 langsames handwerkliches Erlebnis und die ganzheitliche Vielfalt der Brenn
 nessel experimentell an einem Tag zu entdecken.\\n\\nDie Teilnehmenden bri
 ngen für das Hauptgericht einen vegetarischen Beitrag für das gemeinsame
  Zmittag-Buffet mit und geniessen den Tag mit allen Sinnen.
LOCATION:Schuppisried Hütte\, 8280 Kreuzlingen
DTSTART;TZID=Europe/Zurich:20261025T101500
DTEND;TZID=Europe/Zurich:20261025T170000
ORGANIZER:Ferox Natura Artis - Wildes Naturhandwerk
END:VEVENT
END:VCALENDAR
