BEGIN:VCALENDAR
VERSION:2.0
PRODID:-//Sabre//Sabre VObject 4.5.8//EN
CALSCALE:GREGORIAN
BEGIN:VEVENT
UID:sabre-vobject-4c5d5a67-003e-4243-9741-4dd206535a5a
DTSTAMP:20260421T123532Z
SUMMARY:Vom Gras zum runden Korb
DESCRIPTION:Halm für Halm\, Büschel für Büschel – in diesem Tageskur 
 bei Bioterra in Weinfeldens entsteht ein persön­licher Korb aus Gräsern
  und getrockneten Kräutern. Ob als Brotkorb\, Geschenk oder für sich sel
 bst – er wird Ausdruck der Kreativität.\\nBeim Korbwickeln erwacht eine
  alte Handwerkskunst zu neuem Leben. Am Mittag bereiten die Teilnehmenden 
 am Feuer feine Heukartoffeln zu und geniessen dazu eine Teilete von passen
 den Beilagen\, die die Teilnehmer:innen mitbringen.\\n\\nIm Spätsommer: E
 s duftet nach wilder Minze\, würziger Schafgarbe und getrocknetem Gras.\\
 n\\nDas Wunder eines Korbs liegt in seiner Verwandlung\, seiner Reise von 
 der Ganzheit als lebende Pflanze über die Verarbeitung Reihe um Reihe und
  wieder zurück zur Ganzheit als Korb.\n\\nDies geschieht vor dem Kurs…(
 das wird für die Teilnehmenden gemacht)\\nEinen Korb zu erschaffen fängt
  erst mit der ehrenhaften Ernte des Grases an. Das Gras wird vorsichtig ge
 erntet\, nie mehr als die Hälfte der Halme eines Grasbüschels und mehrer
 e Wochen getrocknet. Wenn eine Pflanze respektvoll genutzt wird\, bleibt s
 ie und gedeiht. Viele native americans verehren das Süssgras als Haar der
  Mutter Erde.\nDas passiert am Kurs…(das tun die Teilnehmenden selber)\\
 nMit der Muskelkraft\, viel Gefühl und gleichmässigen Bewegungen\, werde
 n die Hände das uralte Handwerk erlernen und einen eigenen Korb erschaffe
 n. Halm für Halm und Büschel für Büschel\, verwandeln die Teilnehmende
 n die Schönheit der Natur in einen Korb. Wenn die Hände beschäftigt sin
 d\, bewegen sich die Gedanken oft leichter und währenddessen wird der Duf
 t der Ernte eingeatmet. Gras\, als Geschenk der Erde\, dankbar annehmen\, 
 ist der Kern und ein in Vergessenheit geratenes altes Wissen\, um das Hand
 werk nicht verschwinden zu lassen.\nDas geschieht nach dem Kurs…\\nEin l
 eichter Wind streicht über die Wiesen. Man riecht sie\, bevor man sie sie
 ht. Das Gras mit neuen Augen betrachtet\, deren Pracht erst beim genauen H
 inschauen sichtbar wird…
LOCATION:Pfadiheim Mühliwald\, 8570 Weinfelden
DTSTART;TZID=Europe/Zurich:20260613T100000
DTEND;TZID=Europe/Zurich:20260613T163000
ORGANIZER:Ferox Natura Artis - Wildes Naturhandwerk
END:VEVENT
END:VCALENDAR
