BEGIN:VCALENDAR
VERSION:2.0
PRODID:-//Sabre//Sabre VObject 4.5.8//EN
CALSCALE:GREGORIAN
BEGIN:VEVENT
UID:sabre-vobject-52f585b0-834b-4f9d-98b4-5015c352e12f
DTSTAMP:20260421T085710Z
SUMMARY:Stubete Gäng - Open Air
DESCRIPTION:Am Samstag 30. Mai 2026\, wird Engwilen TG zum Hotspot für all
 e Fans von guter Musik\, starker Stimmung und ländlichem Kultfeeling. Den
 n die Stubete Gäng bringt ihre grössten Hits live auf die Open-Air-Bühn
 e – mitten in der wunderschönen Ostschweiz.\\nEinzigartige Mischung aus
  Ländler\, Pop und Partysound\, wenn die Kultband mit Songs wie „Petra 
 Sturzenegger“ oder „Göschene Airolo“ das Gelände zum Beben bringt.
  Ob Jung oder Alt – hier wird gemeinsam getanzt\, gesungen und gefeiert.
 \\n\\nDas Open Air findet im Rahmen des Ostschweizer John Deere Treffens s
 tatt – einem der beliebtesten Traktorentreffen der Region. Am Sonntag\, 
 31. Mai 2026\, rollen hunderte Traktoren aufs Gelände – mit abwechslung
 sreichem Rahmenprogramm\, Ausstellungen und freiem Eintritt für alle Besu
 cher.\\n\\nWichtig zur Anreise: Es wird empfohlen mit dem Auto oder Zweira
 d anzureisen – bitte entsprechend planen. Parkmöglichkeiten stehen vor 
 Ort in ausreichender Zahl zur Verfügung.\\n\\nJetzt Tickets sichern für 
 das Open Air mit der Stubete Gäng – ein musikalisches Highlight voller 
 Power\, Party und PS. Die Plätze sind begrenzt.\\n\\nMitwirkende: \\nStub
 ete Gäng
LOCATION:Ostschweizer John Deere Treffen\, Hauptstrasse 8\, 8564 Engwilen
DTSTART;TZID=Europe/Zurich:20260530T210000
DTEND;TZID=Europe/Zurich:20260530T210000
ORGANIZER:Ticketcorner
END:VEVENT
END:VCALENDAR
