BEGIN:VCALENDAR
VERSION:2.0
PRODID:-//Sabre//Sabre VObject 4.5.8//EN
CALSCALE:GREGORIAN
BEGIN:VEVENT
UID:sabre-vobject-0dbe9f05-7b22-4f24-a63e-9506b4f8d9df
DTSTAMP:20260421T105228Z
SUMMARY:Erzählcafé Egnach
DESCRIPTION:Das Café bietet Raum für achtsames Zuhören\, für gegenseiti
 ges Verständnis und für Gespräche über Themen\, die das Zusammenleben 
 prägen.\nDie Veranstaltungen finden im Cheminéezimmer der Stiftung Egnac
 h an der Bucherstrasse 4 statt.  \n 
LOCATION:Stiftung Egnach\, Bucherstrasse 4\, 9322 Egnach
DTSTART;TZID=Europe/Zurich:20260430T193000
DTEND;TZID=Europe/Zurich:20260430T210000
ORGANIZER:Zukunftsdorf Egnach
END:VEVENT
END:VCALENDAR
