BEGIN:VCALENDAR
VERSION:2.0
PRODID:-//Sabre//Sabre VObject 4.5.8//EN
CALSCALE:GREGORIAN
BEGIN:VEVENT
UID:sabre-vobject-2cb758be-c6ac-4523-b67e-4e09231e45cb
DTSTAMP:20260419T145508Z
SUMMARY:Piano\, Posaune & Poesie
DESCRIPTION:Das Duo Löbenhard interpretiert musikalische Evergreens von de
 n 1920er- bis 1980er-Jahren – charmant\, feinsinnig und mit großer Spie
 lfreude. Ergänzt wird das Programm mit Gedichten von Christian Morgenster
 n\, Heinz Erhardt und Joachim Ringelnatz\, die mit Witz und Tiefe den Zeit
 geist  vergangener Jahrzehnte einfangen.  \nEin Konzert für alle Sinne 
 – mitten in der  Kirche\, wo Raum und Resonanz eine  eigene Sprache sp
 rechen.\n \nDuo Löbenhard\\nWerner Engelhard Posaune\\nPia Löb Klavier
LOCATION:Christuskirche Radolfzell\, Brühlstraße 3\, 78315 Radolfzell am 
 Bodensee
DTSTART;TZID=Europe/Zurich:20260425T193000
DTEND;TZID=Europe/Zurich:20260425T210000
ORGANIZER:Bodensee Philharmonie
END:VEVENT
END:VCALENDAR
