BEGIN:VCALENDAR
VERSION:2.0
PRODID:-//Sabre//Sabre VObject 4.5.8//EN
CALSCALE:GREGORIAN
BEGIN:VEVENT
UID:sabre-vobject-b51385ac-b8da-45c4-8539-21d4310d4a56
DTSTAMP:20260421T123632Z
SUMMARY:Weinlounge
DESCRIPTION:Die Trauben sind im Keller und der Winzer ebenfalls. Berichtet 
 wird darüber\, wie der Herbst verlief und welche Arbeiten nun anstehen.\n
 Von 10 bis 15 Uhr besteht die Möglichkeit\, die Weine zu verkosten und zu
  geniessen. Für den kleinen Hunger steht hausgemachte Kürbissuppe aus ei
 genem Anbau bereit\, und saisonal wechselnde tomela Glaces bieten einen s
 üssen Abschluss.\nIn entspannter Atmosphäre – drinnen wie draussen –
  erfolgt Beratung\, ergänzt durch Einblicke in aktuelle Themen aus Rebbau
  und Weinwelt.\nFür Gruppen ab 5 Personen wird um Anmeldung gebeten.\nPre
 ise gemäss Tagesangebot.\nEin Anlass auf dem Weinweg Weinfelden.
LOCATION:Hagholzstrasse 7\, 8570 Weinfelden
DTSTART;TZID=Europe/Zurich:20261010T100000
DTEND;TZID=Europe/Zurich:20261010T150000
ORGANIZER:Erlebnisweingut Burkhart
END:VEVENT
END:VCALENDAR
