BEGIN:VCALENDAR
VERSION:2.0
PRODID:-//Sabre//Sabre VObject 4.5.8//EN
CALSCALE:GREGORIAN
BEGIN:VEVENT
UID:sabre-vobject-f0d57221-2b3c-467f-afe4-3a62b467f315
DTSTAMP:20260419T221315Z
SUMMARY:Serenade der Ensembles
DESCRIPTION:
LOCATION:Schulanlage Oberstufe Lindenhof\, Lindenhofstrasse 25\, 9500 Wil
DTSTART;TZID=Europe/Zurich:20260624T190000
DTEND;TZID=Europe/Zurich:20260624T200000
ORGANIZER:Musikschule Wil
END:VEVENT
END:VCALENDAR
