BEGIN:VCALENDAR
VERSION:2.0
PRODID:-//Sabre//Sabre VObject 4.5.8//EN
CALSCALE:GREGORIAN
BEGIN:VEVENT
UID:sabre-vobject-510dddf5-2b8b-419e-a985-08d8bd9f6756
DTSTAMP:20260421T120150Z
SUMMARY:Toccatawil
DESCRIPTION:Konzert für Alphorn\, Streicher und Orgel. Michel von Niederh
 äusern\, ein Streicherensemble und Stephan Giger\, Orgel.
LOCATION:Evang.-ref. Kreuzkirche\, Toggenburgerstrasse 50\, 9500 Wil SG
DTSTART;TZID=Europe/Zurich:20260621T170000
DTEND;TZID=Europe/Zurich:20260621T183000
ORGANIZER:toccatawil
END:VEVENT
END:VCALENDAR
