BEGIN:VCALENDAR
VERSION:2.0
PRODID:-//Sabre//Sabre VObject 4.5.8//EN
CALSCALE:GREGORIAN
BEGIN:VEVENT
UID:sabre-vobject-e2356cbe-02d2-4d54-95a5-df97c4d72fa9
DTSTAMP:20260421T120149Z
SUMMARY:Toccatawil
DESCRIPTION:
LOCATION:Katholische Stadtkirche St. Nikolaus\, Kirchgasse 27\, 9500 Wil
DTSTART;TZID=Europe/Zurich:20261115T160000
DTEND;TZID=Europe/Zurich:20261115T173000
ORGANIZER:toccatawil
END:VEVENT
END:VCALENDAR
